BEGIN:VCALENDAR
VERSION:2.0
PRODID:-//Leadership Connect - ECPv6.15.20//NONSGML v1.0//EN
CALSCALE:GREGORIAN
METHOD:PUBLISH
X-WR-CALNAME:Leadership Connect
X-ORIGINAL-URL:https://leadershipconnect.io
X-WR-CALDESC:Events for Leadership Connect
REFRESH-INTERVAL;VALUE=DURATION:PT1H
X-Robots-Tag:noindex
X-PUBLISHED-TTL:PT1H
BEGIN:VTIMEZONE
TZID:America/New_York
BEGIN:DAYLIGHT
TZOFFSETFROM:-0500
TZOFFSETTO:-0400
TZNAME:EDT
DTSTART:20230312T070000
END:DAYLIGHT
BEGIN:STANDARD
TZOFFSETFROM:-0400
TZOFFSETTO:-0500
TZNAME:EST
DTSTART:20231105T060000
END:STANDARD
BEGIN:DAYLIGHT
TZOFFSETFROM:-0500
TZOFFSETTO:-0400
TZNAME:EDT
DTSTART:20240310T070000
END:DAYLIGHT
BEGIN:STANDARD
TZOFFSETFROM:-0400
TZOFFSETTO:-0500
TZNAME:EST
DTSTART:20241103T060000
END:STANDARD
BEGIN:DAYLIGHT
TZOFFSETFROM:-0500
TZOFFSETTO:-0400
TZNAME:EDT
DTSTART:20250309T070000
END:DAYLIGHT
BEGIN:STANDARD
TZOFFSETFROM:-0400
TZOFFSETTO:-0500
TZNAME:EST
DTSTART:20251102T060000
END:STANDARD
END:VTIMEZONE
BEGIN:VEVENT
DTSTART;TZID=America/New_York:20241205T140000
DTEND;TZID=America/New_York:20241205T150000
DTSTAMP:20260425T201958
CREATED:20240724T211706Z
LAST-MODIFIED:20241126T204228Z
UID:500000020-1733407200-1733410800@leadershipconnect.io
SUMMARY:Webinar: Strengthening Intergovernmental Collaboration: A Vision for the New Year
DESCRIPTION:As we look ahead to the new year\, the importance of intergovernmental collaboration becomes increasingly evident. Join us for an insightful panel discussion that explores innovative approaches to fostering cooperation among government agencies at all levels.\n\nOur distinguished panelists\, representing federal\, state\, and local governments\, will share their experiences and strategies for effective collaboration. Topics will include leveraging technology to improve communication\, aligning policy goals for greater impact\, and overcoming common challenges in interagency partnerships.\n\nThe discussion will also highlight successful case studies and provide practical tips for building strong\, cooperative relationships that enhance public service delivery and community outcomes.\nThis event is a valuable opportunity for government officials\, policymakers\, and public administrators to gain fresh perspectives and actionable insights for the year ahead. Don’t miss this chance to learn how to strengthen intergovernmental collaboration and achieve shared goals in the new year
URL:https://leadershipconnect.io/event/webinar-strengthening-intergovernmental-collaboration-a-vision-for-the-new-year/
LOCATION:ZOOM
CATEGORIES:Webinars
ATTACH;FMTTYPE=image/png:https://leadershipconnect.io/wp-content/uploads/12-5-intergov-affairs-.png
END:VEVENT
BEGIN:VEVENT
DTSTART;TZID=America/New_York:20241205T173000
DTEND;TZID=America/New_York:20241205T193000
DTSTAMP:20260425T201958
CREATED:20240724T191603Z
LAST-MODIFIED:20241126T204549Z
UID:500000017-1733419800-1733427000@leadershipconnect.io
SUMMARY:Federal Community Happy Hour
DESCRIPTION:Save the date: To express our sincere appreciation for all you do\, Leadership Connect invites you to our upcoming Federal Community Happy Hour on December 5th\, from 5:30-7:30 PM ET.\nThis will be taking place at our office: 325 7th St NW\, Washington DC. Let us continue to make your life easier by adding a few drinks on us.\n\nCome mix and mingle with Leadership Connect users and industry peers.\n\nThe closest metro stops are Archives-Navy Memorial\, Gallery Place-Chinatown\, Judiciary Square\, Federal Triangle\, and Metro Center.\nDon’t miss a night full of networking and fun with fellow Leadership Connect Customers!
URL:https://leadershipconnect.io/event/federal-community-happy-hour/
LOCATION:Leadership Connect Offices\, 525 9th Street NW\, Suite 600\, Washington\, DC\, 20004\, United States
CATEGORIES:Happy Hour
ATTACH;FMTTYPE=image/png:https://leadershipconnect.io/wp-content/uploads/fed-december-Happy-Hour-.png
END:VEVENT
END:VCALENDAR