BEGIN:VCALENDAR
VERSION:2.0
PRODID:-//Leadership Connect - ECPv6.15.20//NONSGML v1.0//EN
CALSCALE:GREGORIAN
METHOD:PUBLISH
X-WR-CALNAME:Leadership Connect
X-ORIGINAL-URL:https://leadershipconnect.io
X-WR-CALDESC:Events for Leadership Connect
REFRESH-INTERVAL;VALUE=DURATION:PT1H
X-Robots-Tag:noindex
X-PUBLISHED-TTL:PT1H
BEGIN:VTIMEZONE
TZID:America/New_York
BEGIN:DAYLIGHT
TZOFFSETFROM:-0500
TZOFFSETTO:-0400
TZNAME:EDT
DTSTART:20240310T070000
END:DAYLIGHT
BEGIN:STANDARD
TZOFFSETFROM:-0400
TZOFFSETTO:-0500
TZNAME:EST
DTSTART:20241103T060000
END:STANDARD
BEGIN:DAYLIGHT
TZOFFSETFROM:-0500
TZOFFSETTO:-0400
TZNAME:EDT
DTSTART:20250309T070000
END:DAYLIGHT
BEGIN:STANDARD
TZOFFSETFROM:-0400
TZOFFSETTO:-0500
TZNAME:EST
DTSTART:20251102T060000
END:STANDARD
BEGIN:DAYLIGHT
TZOFFSETFROM:-0500
TZOFFSETTO:-0400
TZNAME:EDT
DTSTART:20260308T070000
END:DAYLIGHT
BEGIN:STANDARD
TZOFFSETFROM:-0400
TZOFFSETTO:-0500
TZNAME:EST
DTSTART:20261101T060000
END:STANDARD
END:VTIMEZONE
BEGIN:VEVENT
DTSTART;TZID=America/New_York:20250612T140000
DTEND;TZID=America/New_York:20250612T150000
DTSTAMP:20260415T083529
CREATED:20250407T200632Z
LAST-MODIFIED:20250409T202029Z
UID:500000041-1749736800-1749740400@leadershipconnect.io
SUMMARY:Webinar: The Future of GovCon – AI\, Cost Transparency and Agile Partnerships
DESCRIPTION:The GovCon landscape is shifting faster than ever\, and those who fail to adapt risk being left behind. AI is redefining procurement priorities\, cost transparency is reshaping competitive strategies\, and agility is the new currency of success.\nJoin industry trailblazers for an advanced deep dive into what’s next:\n\nAI’s Role in the Future of Federal Procurement – How agencies are prioritizing AI-driven solutions and what it means for contractors.\nCost Transparency & Compliance – The increasing demand for clear\, auditable cost structures and how to stay ahead of evolving regulations.\n Agility as a Competitive Advantage – Strategies for integrating AI into GovCon operations to drive efficiency and scalability.\nThe Insider Perspective – Contracting officers\, key opinion leaders\, and top consultants share actionable insights on staying competitive in a rapidly evolving market.\n\nThis isn’t just a discussion—it’s a roadmap for what’s next in GovCon. If you’re looking to future-proof your strategy and lead the charge in AI-driven government contracting\, this session is your masterclass.
URL:https://leadershipconnect.io/event/webinar-the-future-of-govcon-ai-cost-transparency-agile-partnerships/
LOCATION:ZOOM
CATEGORIES:Webinars
ATTACH;FMTTYPE=image/png:https://leadershipconnect.io/wp-content/uploads/Vultron-web-5-22.png
END:VEVENT
END:VCALENDAR