BEGIN:VCALENDAR
VERSION:2.0
PRODID:-//Leadership Connect - ECPv6.15.20//NONSGML v1.0//EN
CALSCALE:GREGORIAN
METHOD:PUBLISH
X-WR-CALNAME:Leadership Connect
X-ORIGINAL-URL:https://leadershipconnect.io
X-WR-CALDESC:Events for Leadership Connect
REFRESH-INTERVAL;VALUE=DURATION:PT1H
X-Robots-Tag:noindex
X-PUBLISHED-TTL:PT1H
BEGIN:VTIMEZONE
TZID:America/New_York
BEGIN:DAYLIGHT
TZOFFSETFROM:-0500
TZOFFSETTO:-0400
TZNAME:EDT
DTSTART:20240310T070000
END:DAYLIGHT
BEGIN:STANDARD
TZOFFSETFROM:-0400
TZOFFSETTO:-0500
TZNAME:EST
DTSTART:20241103T060000
END:STANDARD
BEGIN:DAYLIGHT
TZOFFSETFROM:-0500
TZOFFSETTO:-0400
TZNAME:EDT
DTSTART:20250309T070000
END:DAYLIGHT
BEGIN:STANDARD
TZOFFSETFROM:-0400
TZOFFSETTO:-0500
TZNAME:EST
DTSTART:20251102T060000
END:STANDARD
BEGIN:DAYLIGHT
TZOFFSETFROM:-0500
TZOFFSETTO:-0400
TZNAME:EDT
DTSTART:20260308T070000
END:DAYLIGHT
BEGIN:STANDARD
TZOFFSETFROM:-0400
TZOFFSETTO:-0500
TZNAME:EST
DTSTART:20261101T060000
END:STANDARD
END:VTIMEZONE
BEGIN:VEVENT
DTSTART;TZID=America/New_York:20250814T140000
DTEND;TZID=America/New_York:20250814T150000
DTSTAMP:20260411T191941
CREATED:20241122T143605Z
LAST-MODIFIED:20250403T172953Z
UID:500000029-1755180000-1755183600@leadershipconnect.io
SUMMARY:Webinar: Public Sector AI: Transforming Data into Actionable Insights
DESCRIPTION:As government agencies grapple with the vast amounts of data at their disposal\, artificial intelligence (AI) and machine learning (ML) are emerging as powerful tools for turning this data into actionable intelligence. This panel will explore how AI can enhance decision-making processes and operational efficiency within federal agencies. Participants will examine real-world case studies that demonstrate how AI is already transforming operations across the public sector\, providing valuable insights into best practices and lessons learned. Join us for an engaging discussion on leveraging AI to unlock the full potential of government data.
URL:https://leadershipconnect.io/event/webinar-public-sector-ai-transforming-data-into-actionable-insights/
LOCATION:ZOOM
CATEGORIES:Webinars
ATTACH;FMTTYPE=image/png:https://leadershipconnect.io/wp-content/uploads/ai-web-8-14-25.png
END:VEVENT
END:VCALENDAR