BEGIN:VCALENDAR
VERSION:2.0
PRODID:-//Leadership Connect - ECPv6.15.20//NONSGML v1.0//EN
CALSCALE:GREGORIAN
METHOD:PUBLISH
X-ORIGINAL-URL:https://leadershipconnect.io
X-WR-CALDESC:Events for Leadership Connect
REFRESH-INTERVAL;VALUE=DURATION:PT1H
X-Robots-Tag:noindex
X-PUBLISHED-TTL:PT1H
BEGIN:VTIMEZONE
TZID:America/New_York
BEGIN:DAYLIGHT
TZOFFSETFROM:-0500
TZOFFSETTO:-0400
TZNAME:EDT
DTSTART:20250309T070000
END:DAYLIGHT
BEGIN:STANDARD
TZOFFSETFROM:-0400
TZOFFSETTO:-0500
TZNAME:EST
DTSTART:20251102T060000
END:STANDARD
BEGIN:DAYLIGHT
TZOFFSETFROM:-0500
TZOFFSETTO:-0400
TZNAME:EDT
DTSTART:20260308T070000
END:DAYLIGHT
BEGIN:STANDARD
TZOFFSETFROM:-0400
TZOFFSETTO:-0500
TZNAME:EST
DTSTART:20261101T060000
END:STANDARD
BEGIN:DAYLIGHT
TZOFFSETFROM:-0500
TZOFFSETTO:-0400
TZNAME:EDT
DTSTART:20270314T070000
END:DAYLIGHT
BEGIN:STANDARD
TZOFFSETFROM:-0400
TZOFFSETTO:-0500
TZNAME:EST
DTSTART:20271107T060000
END:STANDARD
END:VTIMEZONE
BEGIN:VEVENT
DTSTART;TZID=America/New_York:20260917T173000
DTEND;TZID=America/New_York:20260917T193000
DTSTAMP:20260425T035059
CREATED:20260422T204101Z
LAST-MODIFIED:20260423T191510Z
UID:500000065-1789666200-1789673400@leadershipconnect.io
SUMMARY:Leadership Connect’s GovCon Community Happy Hour
DESCRIPTION:Join Leadership Connect for a GovCon Community Happy Hour\, bringing together professionals from across the government contracting space for an evening of connection\, conversation\, and community. \nThis informal gathering offers a chance to step away from the day-to-day and engage with peers across government\, industry\, and the broader GovCon ecosystem. Whether you are looking to reconnect with colleagues or expand your network\, the evening is designed to foster meaningful conversations in a relaxed setting. \nFrom acquisition and partnerships to the evolving priorities shaping the federal marketplace\, this happy hour provides a space to exchange perspectives and build relationships with others navigating the GovCon landscape. \nEnjoy cocktails and light bites while connecting with fellow professionals for an evening focused on networking\, insight\, and community. \nDetails: \nDate: September 17\, 2026 \nTime: 5:30 PM – 7:30 PM \nWhere: Leadership Connect’s Office \nWho:  Professionals across government\, contracting\, and industry engaged in the GovCon community.  \n\nGet directions: 525 9th St NW\, Washington DC 20004 \nThe closest metro stops are Archives-Navy Memorial\, Gallery Place-Chinatown\, Judiciary Square\, Federal Triangle\, and Metro Center. \nBe sure to join us for an evening of connection with the GovCon community.
URL:https://leadershipconnect.io/event/leadership-connects-govcon-community-happy-hour/
LOCATION:Leadership Connect Offices\, 525 9th Street NW\, Suite 600\, Washington\, DC\, 20004\, United States
CATEGORIES:Happy Hour
ATTACH;FMTTYPE=image/png:https://leadershipconnect.io/wp-content/uploads/GovCon-Happy-Hour.png
END:VEVENT
END:VCALENDAR