BEGIN:VCALENDAR
VERSION:2.0
PRODID:-//Leadership Connect - ECPv6.15.20//NONSGML v1.0//EN
CALSCALE:GREGORIAN
METHOD:PUBLISH
X-WR-CALNAME:Leadership Connect
X-ORIGINAL-URL:https://leadershipconnect.io
X-WR-CALDESC:Events for Leadership Connect
REFRESH-INTERVAL;VALUE=DURATION:PT1H
X-Robots-Tag:noindex
X-PUBLISHED-TTL:PT1H
BEGIN:VTIMEZONE
TZID:America/New_York
BEGIN:DAYLIGHT
TZOFFSETFROM:-0500
TZOFFSETTO:-0400
TZNAME:EDT
DTSTART:20230312T070000
END:DAYLIGHT
BEGIN:STANDARD
TZOFFSETFROM:-0400
TZOFFSETTO:-0500
TZNAME:EST
DTSTART:20231105T060000
END:STANDARD
BEGIN:DAYLIGHT
TZOFFSETFROM:-0500
TZOFFSETTO:-0400
TZNAME:EDT
DTSTART:20240310T070000
END:DAYLIGHT
BEGIN:STANDARD
TZOFFSETFROM:-0400
TZOFFSETTO:-0500
TZNAME:EST
DTSTART:20241103T060000
END:STANDARD
BEGIN:DAYLIGHT
TZOFFSETFROM:-0500
TZOFFSETTO:-0400
TZNAME:EDT
DTSTART:20250309T070000
END:DAYLIGHT
BEGIN:STANDARD
TZOFFSETFROM:-0400
TZOFFSETTO:-0500
TZNAME:EST
DTSTART:20251102T060000
END:STANDARD
END:VTIMEZONE
BEGIN:VEVENT
DTSTART;TZID=America/New_York:20240530T140000
DTEND;TZID=America/New_York:20240530T150000
DTSTAMP:20260416T052315
CREATED:20240517T195351Z
LAST-MODIFIED:20240529T191321Z
UID:500000005-1717077600-1717081200@leadershipconnect.io
SUMMARY:Webinar: Elevating Government Affairs: Best Practices in Policy Implementation
DESCRIPTION:Join us for an informative webinar as our panel of experts explores effective strategies for policy implementation within government affairs. From navigating legislative landscapes to fostering stakeholder engagement\, we’ll delve into best practices that drive successful policy outcomes. Gain practical insights into building coalitions\, influencing decision-makers\, and advocating for policy priorities. Whether you’re a seasoned government affairs professional or new to the field\, this webinar offers actionable strategies and real-world examples to enhance your policy advocacy efforts.
URL:https://leadershipconnect.io/event/webinar-elevating-government-affairs-best-practices-in-policy-implementation/
LOCATION:ZOOM
CATEGORIES:Webinars
ATTACH;FMTTYPE=image/jpeg:https://leadershipconnect.io/wp-content/uploads/may30webinar-scaled.jpg
END:VEVENT
END:VCALENDAR