BEGIN:VCALENDAR
VERSION:2.0
PRODID:-//Leadership Connect - ECPv6.15.20//NONSGML v1.0//EN
CALSCALE:GREGORIAN
METHOD:PUBLISH
X-WR-CALNAME:Leadership Connect
X-ORIGINAL-URL:https://leadershipconnect.io
X-WR-CALDESC:Events for Leadership Connect
REFRESH-INTERVAL;VALUE=DURATION:PT1H
X-Robots-Tag:noindex
X-PUBLISHED-TTL:PT1H
BEGIN:VTIMEZONE
TZID:America/New_York
BEGIN:DAYLIGHT
TZOFFSETFROM:-0500
TZOFFSETTO:-0400
TZNAME:EDT
DTSTART:20230312T070000
END:DAYLIGHT
BEGIN:STANDARD
TZOFFSETFROM:-0400
TZOFFSETTO:-0500
TZNAME:EST
DTSTART:20231105T060000
END:STANDARD
BEGIN:DAYLIGHT
TZOFFSETFROM:-0500
TZOFFSETTO:-0400
TZNAME:EDT
DTSTART:20240310T070000
END:DAYLIGHT
BEGIN:STANDARD
TZOFFSETFROM:-0400
TZOFFSETTO:-0500
TZNAME:EST
DTSTART:20241103T060000
END:STANDARD
BEGIN:DAYLIGHT
TZOFFSETFROM:-0500
TZOFFSETTO:-0400
TZNAME:EDT
DTSTART:20250309T070000
END:DAYLIGHT
BEGIN:STANDARD
TZOFFSETFROM:-0400
TZOFFSETTO:-0500
TZNAME:EST
DTSTART:20251102T060000
END:STANDARD
END:VTIMEZONE
BEGIN:VEVENT
DTSTART;TZID=America/New_York:20240606T140000
DTEND;TZID=America/New_York:20240606T150000
DTSTAMP:20260411T000422
CREATED:20240517T195641Z
LAST-MODIFIED:20240529T191310Z
UID:500000006-1717682400-1717686000@leadershipconnect.io
SUMMARY:Webinar: Future-Ready Workforces: Harnessing Emerging Technology through Upskilling
DESCRIPTION:Join us for an engaging webinar focused on the intersection of emerging technology and workforce upskilling. Our panel of experts will explore innovative approaches to preparing employees for the digital future. From AI to blockchain\, we’ll discuss the impact of emerging technologies on job roles and the importance of continuous learning. Discover practical strategies for upskilling initiatives that empower employees to thrive in the digital age. Whether you’re an HR professional\, business leader\, or employee seeking to adapt to technological changes\, this webinar offers valuable insights and actionable advice for building a future-ready workforce.
URL:https://leadershipconnect.io/event/webinar-future-ready-workforces-harnessing-emerging-technology-through-upskilling/
LOCATION:ZOOM
CATEGORIES:Webinars
ATTACH;FMTTYPE=image/jpeg:https://leadershipconnect.io/wp-content/uploads/june6th-scaled.jpg
END:VEVENT
BEGIN:VEVENT
DTSTART;TZID=America/New_York:20240627T140000
DTEND;TZID=America/New_York:20240627T150000
DTSTAMP:20260411T000422
CREATED:20240517T200226Z
LAST-MODIFIED:20240529T191201Z
UID:500000008-1719496800-1719500400@leadershipconnect.io
SUMMARY:Webinar: Adapting and Thriving: Strategies for Effective Decision-Making and Workplace Dynamics
DESCRIPTION:Join us for an engaging webinar where our diverse panel of experts will explore strategies for navigating challenging decision-making processes and overcoming obstacles in the workplace. From managing setbacks to regaining momentum\, we’ll discuss practical approaches to overcoming hurdles and fostering a resilient work environment. Join us as we delve into the human aspect of decision-making\, including navigating generational differences and fostering collaboration across diverse teams. Gain valuable insights into creating and maintaining healthy work environments and learn effective techniques for addressing and resolving unhealthy issues. Whether you’re a leader\, manager\, or team member\, this webinar offers valuable perspectives on navigating change\, fostering collaboration\, and promoting workplace well-being.
URL:https://leadershipconnect.io/event/webinar-adapting-and-thriving-strategies-for-effective-decision-making-and-workplace-dynamics/
LOCATION:ZOOM
CATEGORIES:Webinars
ATTACH;FMTTYPE=image/jpeg:https://leadershipconnect.io/wp-content/uploads/june27web-scaled.jpg
END:VEVENT
END:VCALENDAR