BEGIN:VCALENDAR
VERSION:2.0
PRODID:-//Leadership Connect - ECPv6.15.18//NONSGML v1.0//EN
CALSCALE:GREGORIAN
METHOD:PUBLISH
X-WR-CALNAME:Leadership Connect
X-ORIGINAL-URL:https://leadershipconnect.io
X-WR-CALDESC:Events for Leadership Connect
REFRESH-INTERVAL;VALUE=DURATION:PT1H
X-Robots-Tag:noindex
X-PUBLISHED-TTL:PT1H
BEGIN:VTIMEZONE
TZID:America/New_York
BEGIN:DAYLIGHT
TZOFFSETFROM:-0500
TZOFFSETTO:-0400
TZNAME:EDT
DTSTART:20230312T070000
END:DAYLIGHT
BEGIN:STANDARD
TZOFFSETFROM:-0400
TZOFFSETTO:-0500
TZNAME:EST
DTSTART:20231105T060000
END:STANDARD
BEGIN:DAYLIGHT
TZOFFSETFROM:-0500
TZOFFSETTO:-0400
TZNAME:EDT
DTSTART:20240310T070000
END:DAYLIGHT
BEGIN:STANDARD
TZOFFSETFROM:-0400
TZOFFSETTO:-0500
TZNAME:EST
DTSTART:20241103T060000
END:STANDARD
BEGIN:DAYLIGHT
TZOFFSETFROM:-0500
TZOFFSETTO:-0400
TZNAME:EDT
DTSTART:20250309T070000
END:DAYLIGHT
BEGIN:STANDARD
TZOFFSETFROM:-0400
TZOFFSETTO:-0500
TZNAME:EST
DTSTART:20251102T060000
END:STANDARD
END:VTIMEZONE
BEGIN:VEVENT
DTSTART;TZID=America/New_York:20240725T140000
DTEND;TZID=America/New_York:20240725T150000
DTSTAMP:20260407T060636
CREATED:20240517T200544Z
LAST-MODIFIED:20240529T191028Z
UID:500000009-1721916000-1721919600@leadershipconnect.io
SUMMARY:Webinar: Collaborative Governance: Strategies for Effective Intergovernmental Policy Coordination
DESCRIPTION:Join us for an engaging webinar exploring the dynamics of intergovernmental affairs and policy coordination. Our expert panelists will delve into the complexities of navigating the relationships between different levels of government and provide practical insights on fostering collaboration and achieving policy coherence. From analyzing successful case studies to discussing potential challenges\, this webinar offers valuable perspectives for policymakers\, practitioners\, and stakeholders seeking to enhance intergovernmental cooperation in shaping effective policies. Don’t miss this opportunity to gain actionable strategies and deepen your understanding of collaborative governance in the realm of intergovernmental affairs.
URL:https://leadershipconnect.io/event/webinar-collaborative-governance-strategies-for-effective-intergovernmental-policy-coordination/
LOCATION:ZOOM
CATEGORIES:Webinars
ATTACH;FMTTYPE=image/jpeg:https://leadershipconnect.io/wp-content/uploads/july25-scaled.jpg
END:VEVENT
END:VCALENDAR