BEGIN:VCALENDAR
VERSION:2.0
PRODID:-//Leadership Connect - ECPv6.15.20//NONSGML v1.0//EN
CALSCALE:GREGORIAN
METHOD:PUBLISH
X-WR-CALNAME:Leadership Connect
X-ORIGINAL-URL:https://leadershipconnect.io
X-WR-CALDESC:Events for Leadership Connect
REFRESH-INTERVAL;VALUE=DURATION:PT1H
X-Robots-Tag:noindex
X-PUBLISHED-TTL:PT1H
BEGIN:VTIMEZONE
TZID:America/New_York
BEGIN:DAYLIGHT
TZOFFSETFROM:-0500
TZOFFSETTO:-0400
TZNAME:EDT
DTSTART:20230312T070000
END:DAYLIGHT
BEGIN:STANDARD
TZOFFSETFROM:-0400
TZOFFSETTO:-0500
TZNAME:EST
DTSTART:20231105T060000
END:STANDARD
BEGIN:DAYLIGHT
TZOFFSETFROM:-0500
TZOFFSETTO:-0400
TZNAME:EDT
DTSTART:20240310T070000
END:DAYLIGHT
BEGIN:STANDARD
TZOFFSETFROM:-0400
TZOFFSETTO:-0500
TZNAME:EST
DTSTART:20241103T060000
END:STANDARD
BEGIN:DAYLIGHT
TZOFFSETFROM:-0500
TZOFFSETTO:-0400
TZNAME:EDT
DTSTART:20250309T070000
END:DAYLIGHT
BEGIN:STANDARD
TZOFFSETFROM:-0400
TZOFFSETTO:-0500
TZNAME:EST
DTSTART:20251102T060000
END:STANDARD
END:VTIMEZONE
BEGIN:VEVENT
DTSTART;TZID=America/New_York:20241003T140000
DTEND;TZID=America/New_York:20241003T150000
DTSTAMP:20260423T170332
CREATED:20240724T205254Z
LAST-MODIFIED:20240724T205254Z
UID:500000018-1727964000-1727967600@leadershipconnect.io
SUMMARY:Webinar: Women Leading the Charge: Cybersecurity in the Public Sector
DESCRIPTION:In an era where digital threats are becoming increasingly sophisticated\, the public sector’s cybersecurity defenses are more critical than ever. Join us for an inspiring panel discussion featuring trailblazing women who are at the forefront of cybersecurity in government and public institutions.\n\nOur distinguished panelists will share their unique experiences\, challenges\, and successes in securing our nation’s digital infrastructure. They will discuss the importance of diversity in cybersecurity\, innovative strategies for threat prevention\, and the evolving role of women in this vital field.\n\nWhether you’re a seasoned professional or new to the cybersecurity landscape\, this panel offers invaluable insights and practical advice to help you navigate the complexities of cybersecurity in the public sector. Don’t miss this opportunity to learn from and connect with the leaders shaping the future of cybersecurity.
URL:https://leadershipconnect.io/event/webinar-women-leading-the-charge-cybersecurity-in-the-public-sector/
LOCATION:ZOOM
CATEGORIES:Webinars
ATTACH;FMTTYPE=image/jpeg:https://leadershipconnect.io/wp-content/uploads/10-3-women-in-cyber.jpg
END:VEVENT
BEGIN:VEVENT
DTSTART;TZID=America/New_York:20241003T173000
DTEND;TZID=America/New_York:20241003T193000
DTSTAMP:20260423T170332
CREATED:20240724T190213Z
LAST-MODIFIED:20240731T202711Z
UID:500000015-1727976600-1727983800@leadershipconnect.io
SUMMARY:Cybersecurity Community Happy Hour
DESCRIPTION:Save the date: To express our sincere appreciation for all you do\, Leadership Connect invites you to our upcoming CyberSecurity Happy Hour on October 3rd\, from 5:30-7:30 PM ET.\nThis will be taking place at our office: 325 7th St NW\, Washington DC. Let us continue to make your life easier by adding a few drinks on us.\n\nCome mix and mingle with Leadership Connect users and industry peers.\n\nThe closest metro stops are Archives-Navy Memorial\, Gallery Place-Chinatown\, Judiciary Square\, Federal Triangle\, and Metro Center.\n\nDon’t miss a night full of networking and fun with fellow Leadership Connect Customers!
URL:https://leadershipconnect.io/event/cybersecurity-community-happy-hour/
LOCATION:Leadership Connect Offices\, 525 9th Street NW\, Suite 600\, Washington\, DC\, 20004\, United States
CATEGORIES:Happy Hour
ATTACH;FMTTYPE=image/png:https://leadershipconnect.io/wp-content/uploads/10-3-cybersecurity-hh.png
END:VEVENT
BEGIN:VEVENT
DTSTART;TZID=America/New_York:20241016T173000
DTEND;TZID=America/New_York:20241016T193000
DTSTAMP:20260423T170332
CREATED:20240917T143938Z
LAST-MODIFIED:20240917T143938Z
UID:500000022-1729099800-1729107000@leadershipconnect.io
SUMMARY:GovCon Community Happy Hour with Vultron
DESCRIPTION:To express our sincere appreciation for all you do\, Leadership Connect is partnering with Vultron to celebrate the GovCon community at our upcoming GovCon Community Happy Hour on October 16th\, from 5:30-7:30 PM ET. \nJoin us to mix and mingle with Leadership Connect users\, industry peers\, and the broader GovCon network. Let us continue making your work easier while you enjoy a few drinks on us! \nGet directions: 325 7th St NW\, Washington DC 20004 \nThe closest metro stops are Archives-Navy Memorial\, Gallery Place-Chinatown\, Judiciary Square\, Federal Triangle\, and Metro Center. \nDon’t miss a night full of networking and fun with fellow GovCon community members!
URL:https://leadershipconnect.io/event/october-govcon-community-happy-hour/
LOCATION:Leadership Connect Offices\, 525 9th Street NW\, Suite 600\, Washington\, DC\, 20004\, United States
CATEGORIES:Happy Hour
ATTACH;FMTTYPE=image/png:https://leadershipconnect.io/wp-content/uploads/Vultron-Happy-Hour-Graphic.png
END:VEVENT
BEGIN:VEVENT
DTSTART;TZID=America/New_York:20241017T140000
DTEND;TZID=America/New_York:20241017T150000
DTSTAMP:20260423T170332
CREATED:20240917T153959Z
LAST-MODIFIED:20241007T133848Z
UID:500000023-1729173600-1729177200@leadershipconnect.io
SUMMARY:Webinar: Building Success: Mastering the Early Stages of Government Contracting with Vultron
DESCRIPTION:The foundation for a successful proposal is created in the business development and capture stages of the government contracting pipeline. In this webinar\, participants will explore best practices for identifying opportunities\, understanding solicitations and requirements\, and establishing a strong presence in the competitive government contracting landscape. Attendees will learn to develop winning bid strategies through building relationships and gathering and utilizing comprehensive information. The key focus will be on effectively navigating your top-of-pipeline to prepare for the subsequent stages of the contracting process.  
URL:https://leadershipconnect.io/event/webinar-building-success-mastering-the-early-stages-of-government-contracting/
LOCATION:ZOOM
CATEGORIES:Webinars
ATTACH;FMTTYPE=image/png:https://leadershipconnect.io/wp-content/uploads/Vultron-Web-1-graphic-1.png
END:VEVENT
BEGIN:VEVENT
DTSTART;TZID=America/New_York:20241030T140000
DTEND;TZID=America/New_York:20241030T150000
DTSTAMP:20260423T170332
CREATED:20240731T202517Z
LAST-MODIFIED:20241001T173357Z
UID:500000021-1730296800-1730300400@leadershipconnect.io
SUMMARY:Webinar: Cyber Resilience: Strengthening Public Sector Defenses
DESCRIPTION:In recognition of Cybersecurity Month\, we invite you to an insightful panel discussion on the importance of cyber resilience in the public sector. Our distinguished panelists\, experts from various government and public institutions\, will share their knowledge and experiences in building robust cybersecurity defenses.\n\nThis discussion will address a variety of topics\, including effective strategies for enhancing cyber resilience\, current and emerging cyber threats\, and the critical role of inter-agency collaboration. Panelists will also highlight innovative approaches to safeguarding public sector data and ensuring the continuity of essential services.\n\nThis event is designed to provide public sector professionals with practical insights and actionable strategies to strengthen their cybersecurity posture. Join us to learn from the leaders driving cyber resilience and secure the future of our digital infrastructure. Don’t miss this opportunity to boost your cybersecurity capabilities during Cybersecurity Month!
URL:https://leadershipconnect.io/event/webinar-cyber-resilience-strengthening-public-sector-defenses/
LOCATION:ZOOM
CATEGORIES:Webinars
ATTACH;FMTTYPE=image/png:https://leadershipconnect.io/wp-content/uploads/cyber-Webinar-10-31-1.png
END:VEVENT
END:VCALENDAR