BEGIN:VCALENDAR
VERSION:2.0
PRODID:-//Leadership Connect - ECPv6.15.20//NONSGML v1.0//EN
CALSCALE:GREGORIAN
METHOD:PUBLISH
X-WR-CALNAME:Leadership Connect
X-ORIGINAL-URL:https://leadershipconnect.io
X-WR-CALDESC:Events for Leadership Connect
REFRESH-INTERVAL;VALUE=DURATION:PT1H
X-Robots-Tag:noindex
X-PUBLISHED-TTL:PT1H
BEGIN:VTIMEZONE
TZID:America/New_York
BEGIN:DAYLIGHT
TZOFFSETFROM:-0500
TZOFFSETTO:-0400
TZNAME:EDT
DTSTART:20240310T070000
END:DAYLIGHT
BEGIN:STANDARD
TZOFFSETFROM:-0400
TZOFFSETTO:-0500
TZNAME:EST
DTSTART:20241103T060000
END:STANDARD
BEGIN:DAYLIGHT
TZOFFSETFROM:-0500
TZOFFSETTO:-0400
TZNAME:EDT
DTSTART:20250309T070000
END:DAYLIGHT
BEGIN:STANDARD
TZOFFSETFROM:-0400
TZOFFSETTO:-0500
TZNAME:EST
DTSTART:20251102T060000
END:STANDARD
BEGIN:DAYLIGHT
TZOFFSETFROM:-0500
TZOFFSETTO:-0400
TZNAME:EDT
DTSTART:20260308T070000
END:DAYLIGHT
BEGIN:STANDARD
TZOFFSETFROM:-0400
TZOFFSETTO:-0500
TZNAME:EST
DTSTART:20261101T060000
END:STANDARD
END:VTIMEZONE
BEGIN:VEVENT
DTSTART;TZID=America/New_York:20250306T140000
DTEND;TZID=America/New_York:20250306T150000
DTSTAMP:20260421T104508
CREATED:20240517T201554Z
LAST-MODIFIED:20250311T212246Z
UID:500000013-1741269600-1741273200@leadershipconnect.io
SUMMARY:Webinar: Navigating AI: Challenges and Successes in Acquisition and Adoption
DESCRIPTION:AI holds the power to expedite numerous processes in governments but its effective integration demands extensive work\, research\, and resources.\nThe complexities of procurement and AI acquisition can slow down agencies\, which are tasked with understanding how AI can serve their work. Selecting the most suitable AI strategy and approach poses a prolonged challenge\, considering factors such as technical capabilities\, governance\, administration\, and requirements for security\, privacy\, civil rights\, and civil liberties.\n\nJoin us as experts delve into their experiences in AI procurement and implementation\, offering insights into the growth trajectories of their agencies. This discussion will encompass the identification and resolution of diverse issues encountered while working with AI\, providing valuable perspectives and potential solutions for navigating the complex landscape of AI adoption.
URL:https://leadershipconnect.io/event/webinar-navigating-ai-challenges-and-successes-in-acquisition-and-adoption/
LOCATION:ZOOM
CATEGORIES:Webinars
ATTACH;FMTTYPE=image/png:https://leadershipconnect.io/wp-content/uploads/ai-web-3-6.png
END:VEVENT
BEGIN:VEVENT
DTSTART;TZID=America/New_York:20250313T140000
DTEND;TZID=America/New_York:20250313T150000
DTSTAMP:20260421T104508
CREATED:20241122T141909Z
LAST-MODIFIED:20241205T160018Z
UID:500000027-1741874400-1741878000@leadershipconnect.io
SUMMARY:Webinar: Women Leaders in Public Sector IT: Shaping the Future of Government Technology
DESCRIPTION:Join us for an engaging panel discussion that celebrates the pivotal contributions of women leaders in the public sector IT space. As they navigate and lead critical initiatives in cybersecurity\, artificial intelligence\, and cloud adoption\, these trailblazers are reshaping the future of government technology. This session will delve into the challenges women face in leadership roles and explore innovative opportunities to empower them further. Together\, we will discuss actionable strategies for creating a supportive environment that nurtures female leadership in the public sector\, driving both innovation and inclusivity.
URL:https://leadershipconnect.io/event/webinar-women-leaders-in-public-sector-it-shaping-the-future-of-government-technology/
LOCATION:ZOOM
CATEGORIES:Webinars
ATTACH;FMTTYPE=image/png:https://leadershipconnect.io/wp-content/uploads/women-3-13.png
END:VEVENT
END:VCALENDAR