BEGIN:VCALENDAR
VERSION:2.0
PRODID:-//Leadership Connect - ECPv6.15.20//NONSGML v1.0//EN
CALSCALE:GREGORIAN
METHOD:PUBLISH
X-WR-CALNAME:Leadership Connect
X-ORIGINAL-URL:https://leadershipconnect.io
X-WR-CALDESC:Events for Leadership Connect
REFRESH-INTERVAL;VALUE=DURATION:PT1H
X-Robots-Tag:noindex
X-PUBLISHED-TTL:PT1H
BEGIN:VTIMEZONE
TZID:America/New_York
BEGIN:DAYLIGHT
TZOFFSETFROM:-0500
TZOFFSETTO:-0400
TZNAME:EDT
DTSTART:20240310T070000
END:DAYLIGHT
BEGIN:STANDARD
TZOFFSETFROM:-0400
TZOFFSETTO:-0500
TZNAME:EST
DTSTART:20241103T060000
END:STANDARD
BEGIN:DAYLIGHT
TZOFFSETFROM:-0500
TZOFFSETTO:-0400
TZNAME:EDT
DTSTART:20250309T070000
END:DAYLIGHT
BEGIN:STANDARD
TZOFFSETFROM:-0400
TZOFFSETTO:-0500
TZNAME:EST
DTSTART:20251102T060000
END:STANDARD
BEGIN:DAYLIGHT
TZOFFSETFROM:-0500
TZOFFSETTO:-0400
TZNAME:EDT
DTSTART:20260308T070000
END:DAYLIGHT
BEGIN:STANDARD
TZOFFSETFROM:-0400
TZOFFSETTO:-0500
TZNAME:EST
DTSTART:20261101T060000
END:STANDARD
END:VTIMEZONE
BEGIN:VEVENT
DTSTART;TZID=America/New_York:20251204T140000
DTEND;TZID=America/New_York:20251204T150000
DTSTAMP:20260425T113405
CREATED:20251009T175602Z
LAST-MODIFIED:20251125T202005Z
UID:500000056-1764856800-1764860400@leadershipconnect.io
SUMMARY:Securing Software Supply Chains: Critical Infrastructure Priorities for 2026
DESCRIPTION:As 2025 comes to a close\, the pressure on critical infrastructure supply chains has never been higher. Cyber threats\, third-party dependencies\, and new regulatory expectations will shape the year ahead.\n \nThis session will help leaders prepare for 2026 by exploring:\n\nKey lessons from 2025’s evolving threat landscape\nHow to strengthen resilience against cyber and vendor risks\nPolicy and regulatory priorities shaping supply chain security in the new year\nPractical steps to future-proof operations and minimize disruption\n\nWhether in government\, industry\, or technology\, participants will walk away with actionable strategies to protect critical infrastructure and supply chains as the new year begins.
URL:https://leadershipconnect.io/event/securing-supply-chains-critical-infrastructure-priorities-for-2026/
LOCATION:ZOOM
CATEGORIES:Webinars
ATTACH;FMTTYPE=image/png:https://leadershipconnect.io/wp-content/uploads/LC-Web-20251204.png
END:VEVENT
BEGIN:VEVENT
DTSTART;TZID=America/New_York:20251204T173000
DTEND;TZID=America/New_York:20251204T193000
DTSTAMP:20260425T113405
CREATED:20250930T184533Z
LAST-MODIFIED:20250930T195848Z
UID:500000044-1764869400-1764876600@leadershipconnect.io
SUMMARY:Toast to 2025: A Year-End Celebration Happy Hour
DESCRIPTION:Join us for a relaxed evening of cocktails\, conversation\, and city views. This rooftop happy hour is the perfect setting to connect with peers across government\, industry\, and innovation spaces. Whether you’re deepening existing relationships or meeting new faces\, expect a vibrant mix of professionals driving impact across sectors. \nEnjoy drinks and appetizers as the sun sets over downtown D.C.—a casual\, inviting atmosphere to unwind\, share ideas\, and spark new collaborations. \nGet directions: 525 9th Street NW\, Suite 600\, Washington\, DC  20004 \nThe closest metro stops are Archives-Navy Memorial\, Gallery Place-Chinatown\, Judiciary Square\, Federal Triangle\, and Metro Center. \nCome for the view\, stay for the connections.
URL:https://leadershipconnect.io/event/toast-to-2025-a-year-end-celebration-happy-hour/
LOCATION:Leadership Connect Offices\, 525 9th Street NW\, Suite 600\, Washington\, DC\, 20004\, United States
CATEGORIES:Happy Hour
ATTACH;FMTTYPE=image/png:https://leadershipconnect.io/wp-content/uploads/December-2025-Happy-Hour_Intrigue.png
END:VEVENT
BEGIN:VEVENT
DTSTART;TZID=America/New_York:20251211T140000
DTEND;TZID=America/New_York:20251211T150000
DTSTAMP:20260425T113405
CREATED:20241122T150614Z
LAST-MODIFIED:20251110T134440Z
UID:500000035-1765461600-1765465200@leadershipconnect.io
SUMMARY:Securing the Future: Leveraging AI Against Supply Chain Threats
DESCRIPTION:As 2025 comes to a close\, global supply chains have become a frontline issue for national security\, law enforcement\, and intelligence agencies. Adversaries are increasingly exploiting vulnerabilities in logistics networks\, critical materials\, and financial flows to advance strategic goals\, from money laundering and narcotics trafficking to cyber-enabled disruptions. At the same time\, artificial intelligence is reshaping how these risks emerge and how they can be countered. This session will explore the intersection of AI\, supply chain security\, and enforcement. Experts will examine how hostile actors may leverage AI to conceal illicit activities and manipulate global markets\, and how agencies can apply AI to detect patterns\, trace networks\, and strengthen resilience. Whether addressing threats in counternarcotics\, counterintelligence\, tax enforcement\, or defense logistics\, participants will gain insights into the next generation of tools and risks shaping the security landscape.
URL:https://leadershipconnect.io/event/securing-the-future-leveraging-ai-against-supply-chain-threats/
LOCATION:ZOOM
CATEGORIES:Webinars
ATTACH;FMTTYPE=image/png:https://leadershipconnect.io/wp-content/uploads/webinar-graphics-2026-17.png
END:VEVENT
END:VCALENDAR