BEGIN:VCALENDAR
VERSION:2.0
PRODID:-//Leadership Connect - ECPv6.15.20//NONSGML v1.0//EN
CALSCALE:GREGORIAN
METHOD:PUBLISH
X-WR-CALNAME:Leadership Connect
X-ORIGINAL-URL:https://leadershipconnect.io
X-WR-CALDESC:Events for Leadership Connect
REFRESH-INTERVAL;VALUE=DURATION:PT1H
X-Robots-Tag:noindex
X-PUBLISHED-TTL:PT1H
BEGIN:VTIMEZONE
TZID:America/New_York
BEGIN:DAYLIGHT
TZOFFSETFROM:-0500
TZOFFSETTO:-0400
TZNAME:EDT
DTSTART:20250309T070000
END:DAYLIGHT
BEGIN:STANDARD
TZOFFSETFROM:-0400
TZOFFSETTO:-0500
TZNAME:EST
DTSTART:20251102T060000
END:STANDARD
BEGIN:DAYLIGHT
TZOFFSETFROM:-0500
TZOFFSETTO:-0400
TZNAME:EDT
DTSTART:20260308T070000
END:DAYLIGHT
BEGIN:STANDARD
TZOFFSETFROM:-0400
TZOFFSETTO:-0500
TZNAME:EST
DTSTART:20261101T060000
END:STANDARD
BEGIN:DAYLIGHT
TZOFFSETFROM:-0500
TZOFFSETTO:-0400
TZNAME:EDT
DTSTART:20270314T070000
END:DAYLIGHT
BEGIN:STANDARD
TZOFFSETFROM:-0400
TZOFFSETTO:-0500
TZNAME:EST
DTSTART:20271107T060000
END:STANDARD
END:VTIMEZONE
BEGIN:VEVENT
DTSTART;TZID=America/New_York:20260423T173000
DTEND;TZID=America/New_York:20260423T193000
DTSTAMP:20260423T233601
CREATED:20260122T162442Z
LAST-MODIFIED:20260323T133710Z
UID:500000061-1776965400-1776972600@leadershipconnect.io
SUMMARY:Cocktails & Conversations | The Future of Federal Contracting: Innovation\, Oversight\, and Industry Partnerships
DESCRIPTION:Federal contracting is entering a period of accelerated change. From acquisition reform and emerging AI applications to evolving expectations around transparency and ethics\, agencies and industry are rethinking how they collaborate to deliver mission outcomes. \nJoin us for a brief panel discussion followed by an informal cocktails and conversations happy hour\, where speakers and attendees can continue the dialogue in a relaxed setting. Together\, we will explore how innovation\, oversight\, and partnership are shaping the next era of government contracting and what these shifts mean in practice. \nThis gathering is designed to encourage open discussion around emerging trends\, real world challenges\, and shared priorities. It offers space to connect\, exchange perspectives\, and build relationships beyond the panel. \nIdeal for government leaders and contractors alike\, this event blends timely insights with meaningful conversation to help participants navigate today’s contracting landscape and prepare for what is ahead. \nGet directions: 525 9th Street NW\, Suite 600\, Washington\, DC  20004 \nThe closest metro stops are Archives-Navy Memorial\, Gallery Place-Chinatown\, Judiciary Square\, Federal Triangle\, and Metro Center. \nCome for the view\, stay for the connections.
URL:https://leadershipconnect.io/event/cocktails-conversations-the-future-of-federal-contracting-innovation-oversight-and-industry-partnerships/
LOCATION:Leadership Connect Offices\, 525 9th Street NW\, Suite 600\, Washington\, DC\, 20004\, United States
CATEGORIES:Happy Hour
ATTACH;FMTTYPE=image/png:https://leadershipconnect.io/wp-content/uploads/The-Future-of-Federal-Contracting-Innovation-Oversight-and-Industry-Partnerships.png
END:VEVENT
BEGIN:VEVENT
DTSTART;TZID=America/New_York:20260430T140000
DTEND;TZID=America/New_York:20260430T150000
DTSTAMP:20260423T233601
CREATED:20260227T160645Z
LAST-MODIFIED:20260313T183954Z
UID:500000062-1777557600-1777561200@leadershipconnect.io
SUMMARY:The Hidden Risk in Federal Software Supply Chains and How to Fix It
DESCRIPTION:Federal agencies rely heavily on open-source software to build and operate modern digital systems. Yet recent high-profile incidents have revealed how fragile today’s software supply chains can be.\n\nIn response\, the federal government has introduced new requirements through Executive Order 14028\, NIST’s Secure Software Development Framework (SSDF)\, and OMB guidance on SBOMs and software attestations. But for many agencies\, these policies have also exposed a difficult reality: security teams are overwhelmed by vulnerability backlogs\, complex dependency chains\, and the operational burden of managing thousands of CVEs.\n\nThis session explores what has changed in the software supply chain over the past five years and why traditional approaches to open-source security are no longer enough. Attendees will learn practical strategies to reduce risk at the source using minimal container images\, secure build pipelines\, and faster release cadences. We will also discuss how emerging approaches such as AI-assisted analysis and retrieval-augmented security tools can help teams identify risks earlier in the software lifecycle.
URL:https://leadershipconnect.io/event/the-hidden-risk-in-federal-software-supply-chains-and-how-to-fix-it/
LOCATION:ZOOM
CATEGORIES:Webinars
ATTACH;FMTTYPE=image/png:https://leadershipconnect.io/wp-content/uploads/Webinar-Graphics-Thumbnails-2026-1.png
END:VEVENT
END:VCALENDAR