BEGIN:VCALENDAR
VERSION:2.0
PRODID:-//Leadership Connect - ECPv6.15.20//NONSGML v1.0//EN
CALSCALE:GREGORIAN
METHOD:PUBLISH
X-WR-CALNAME:Leadership Connect
X-ORIGINAL-URL:https://leadershipconnect.io
X-WR-CALDESC:Events for Leadership Connect
REFRESH-INTERVAL;VALUE=DURATION:PT1H
X-Robots-Tag:noindex
X-PUBLISHED-TTL:PT1H
BEGIN:VTIMEZONE
TZID:America/New_York
BEGIN:DAYLIGHT
TZOFFSETFROM:-0500
TZOFFSETTO:-0400
TZNAME:EDT
DTSTART:20230312T070000
END:DAYLIGHT
BEGIN:STANDARD
TZOFFSETFROM:-0400
TZOFFSETTO:-0500
TZNAME:EST
DTSTART:20231105T060000
END:STANDARD
BEGIN:DAYLIGHT
TZOFFSETFROM:-0500
TZOFFSETTO:-0400
TZNAME:EDT
DTSTART:20240310T070000
END:DAYLIGHT
BEGIN:STANDARD
TZOFFSETFROM:-0400
TZOFFSETTO:-0500
TZNAME:EST
DTSTART:20241103T060000
END:STANDARD
BEGIN:DAYLIGHT
TZOFFSETFROM:-0500
TZOFFSETTO:-0400
TZNAME:EDT
DTSTART:20250309T070000
END:DAYLIGHT
BEGIN:STANDARD
TZOFFSETFROM:-0400
TZOFFSETTO:-0500
TZNAME:EST
DTSTART:20251102T060000
END:STANDARD
BEGIN:DAYLIGHT
TZOFFSETFROM:-0500
TZOFFSETTO:-0400
TZNAME:EDT
DTSTART:20260308T070000
END:DAYLIGHT
BEGIN:STANDARD
TZOFFSETFROM:-0400
TZOFFSETTO:-0500
TZNAME:EST
DTSTART:20261101T060000
END:STANDARD
BEGIN:DAYLIGHT
TZOFFSETFROM:-0500
TZOFFSETTO:-0400
TZNAME:EDT
DTSTART:20270314T070000
END:DAYLIGHT
BEGIN:STANDARD
TZOFFSETFROM:-0400
TZOFFSETTO:-0500
TZNAME:EST
DTSTART:20271107T060000
END:STANDARD
END:VTIMEZONE
BEGIN:VEVENT
DTSTART;TZID=America/New_York:20260326T173000
DTEND;TZID=America/New_York:20260326T193000
DTSTAMP:20260413T021931
CREATED:20260122T160313Z
LAST-MODIFIED:20260212T195113Z
UID:500000060-1774546200-1774553400@leadershipconnect.io
SUMMARY:Beyond the Buzz: Tech & Innovation Happy Hour
DESCRIPTION:Join Leadership Connect for an evening of relaxed conversation\, great company\, and fresh connections at our Beyond the Buzz: Tech & Innovation Happy Hour. This rooftop gathering brings together professionals across government\, industry\, and the innovation community for candid conversation on technology trends — without the hype. \nWhether you’re reconnecting with familiar faces or meeting new colleagues\, this happy hour is designed to create space for meaningful dialogue and relationship-building in an informal\, welcoming setting. \nEnjoy cocktails and light bites while taking in sweeping views of downtown D.C. — the perfect backdrop to unwind\, exchange ideas\, and connect with peers navigating today’s evolving tech and innovation landscape. \nGet directions: 525 9th Street NW\, Suite 600\, Washington\, DC  20004 \nThe closest metro stops are Archives-Navy Memorial\, Gallery Place-Chinatown\, Judiciary Square\, Federal Triangle\, and Metro Center. \nCome for the view\, stay for the connections.
URL:https://leadershipconnect.io/event/beyond-the-buzz-tech-innovation-happy-hour/
LOCATION:Leadership Connect Offices\, 525 9th Street NW\, Suite 600\, Washington\, DC\, 20004\, United States
CATEGORIES:Happy Hour
ATTACH;FMTTYPE=image/png:https://leadershipconnect.io/wp-content/uploads/Beyond-the-Buzz-Tech-Innovation-Happy-Hour.png
END:VEVENT
BEGIN:VEVENT
DTSTART;TZID=America/New_York:20260205T173000
DTEND;TZID=America/New_York:20260205T193000
DTSTAMP:20260413T021931
CREATED:20251217T144507Z
LAST-MODIFIED:20251217T144507Z
UID:500000058-1770312600-1770319800@leadershipconnect.io
SUMMARY:Kick Off 2026: New Year\, New Connections Happy Hour
DESCRIPTION:Ring in the new year with an evening of relaxed conversation\, great company\, and fresh connections. Join Leadership Connect for a rooftop happy hour designed to bring together professionals across government\, industry\, and the innovation space as we step into 2026. Whether you’re reconnecting with familiar faces or meeting new colleagues\, this gathering offers the perfect environment to spark meaningful dialogue and build relationships that will shape the year ahead. \nEnjoy cocktails and light bites while taking in sweeping views of downtown D.C.—a warm\, inviting setting to unwind\, share ideas\, and celebrate the opportunities that the new year brings. \nDate: February 5\, 2026 \nTime: 5:30 PM – 7:30 PM \nWho: Government professionals\, contractors\, and industry leaders looking to connect in a relaxed\, rooftop setting. \nGet directions: 525 9th Street NW\, Suite 600\, Washington\, DC  20004 \nThe closest metro stops are Archives-Navy Memorial\, Gallery Place-Chinatown\, Judiciary Square\, Federal Triangle\, and Metro Center. \nCome for the view\, stay for the connections.
URL:https://leadershipconnect.io/event/kick-off-2026-new-year-new-connections-happy-hour/
LOCATION:Leadership Connect Offices\, 525 9th Street NW\, Suite 600\, Washington\, DC\, 20004\, United States
CATEGORIES:Happy Hour
ATTACH;FMTTYPE=image/png:https://leadershipconnect.io/wp-content/uploads/feb-new-year-Happy-Hour-.png
END:VEVENT
BEGIN:VEVENT
DTSTART;TZID=America/New_York:20251204T173000
DTEND;TZID=America/New_York:20251204T193000
DTSTAMP:20260413T021931
CREATED:20250930T184533Z
LAST-MODIFIED:20250930T195848Z
UID:500000044-1764869400-1764876600@leadershipconnect.io
SUMMARY:Toast to 2025: A Year-End Celebration Happy Hour
DESCRIPTION:Join us for a relaxed evening of cocktails\, conversation\, and city views. This rooftop happy hour is the perfect setting to connect with peers across government\, industry\, and innovation spaces. Whether you’re deepening existing relationships or meeting new faces\, expect a vibrant mix of professionals driving impact across sectors. \nEnjoy drinks and appetizers as the sun sets over downtown D.C.—a casual\, inviting atmosphere to unwind\, share ideas\, and spark new collaborations. \nGet directions: 525 9th Street NW\, Suite 600\, Washington\, DC  20004 \nThe closest metro stops are Archives-Navy Memorial\, Gallery Place-Chinatown\, Judiciary Square\, Federal Triangle\, and Metro Center. \nCome for the view\, stay for the connections.
URL:https://leadershipconnect.io/event/toast-to-2025-a-year-end-celebration-happy-hour/
LOCATION:Leadership Connect Offices\, 525 9th Street NW\, Suite 600\, Washington\, DC\, 20004\, United States
CATEGORIES:Happy Hour
ATTACH;FMTTYPE=image/png:https://leadershipconnect.io/wp-content/uploads/December-2025-Happy-Hour_Intrigue.png
END:VEVENT
BEGIN:VEVENT
DTSTART;TZID=America/New_York:20250916T173000
DTEND;TZID=America/New_York:20250916T193000
DTSTAMP:20260413T021931
CREATED:20250717T144210Z
LAST-MODIFIED:20250721T173818Z
UID:500000042-1758043800-1758051000@leadershipconnect.io
SUMMARY:September Rooftop Happy Hour
DESCRIPTION:Join us for an evening of networking\, drinks\, and great views from the Leadership Connect rooftop. Connect with professionals across government\, industry\, and innovation in a relaxed setting. \nGet directions: 525 9th Street NW\, Suite 600\, Washington\, DC  20004 \nThe closest metro stops are Archives-Navy Memorial\, Gallery Place-Chinatown\, Judiciary Square\, Federal Triangle\, and Metro Center. \nDon’t miss a night full of networking and fun!
URL:https://leadershipconnect.io/event/https-resources-leadershipconnect-io-september-rooftop-happy-hour/
LOCATION:Leadership Connect Offices\, 525 9th Street NW\, Suite 600\, Washington\, DC\, 20004\, United States
CATEGORIES:Happy Hour
ATTACH;FMTTYPE=image/png:https://leadershipconnect.io/wp-content/uploads/september-rooftop-Happy-Hour-.png
END:VEVENT
BEGIN:VEVENT
DTSTART;TZID=America/New_York:20250605T173000
DTEND;TZID=America/New_York:20250605T193000
DTSTAMP:20260413T021931
CREATED:20250402T175137Z
LAST-MODIFIED:20250520T173305Z
UID:500000039-1749144600-1749151800@leadershipconnect.io
SUMMARY:Connecting Leaders Across Sectors: Strategic Engagement & Influence with Data Happy Hour
DESCRIPTION:Join us for an exclusive event showcasing how Leadership Connect’s seamless integration with Salesforce can elevate your engagement strategy. Discover powerful tools for data enrichment\, customization\, and API solutions to streamline workflows and enhance decision-making.  \nGet directions: 525 9th Street NW\, Suite 600\, Washington\, DC  20004 \nThe closest metro stops are Archives-Navy Memorial\, Gallery Place-Chinatown\, Judiciary Square\, Federal Triangle\, and Metro Center. \nDon’t miss a night full of networking and fun!
URL:https://leadershipconnect.io/event/https-resources-leadershipconnect-io-june-2025-salesforce-happy-hour/
LOCATION:Leadership Connect Offices\, 525 9th Street NW\, Suite 600\, Washington\, DC\, 20004\, United States
CATEGORIES:Happy Hour
ATTACH;FMTTYPE=image/png:https://leadershipconnect.io/wp-content/uploads/june-sf-Happy-Hour-2.png
END:VEVENT
BEGIN:VEVENT
DTSTART;TZID=America/New_York:20250424T173000
DTEND;TZID=America/New_York:20250424T193000
DTSTAMP:20260413T021931
CREATED:20250306T160050Z
LAST-MODIFIED:20250721T173050Z
UID:500000038-1745515800-1745523000@leadershipconnect.io
SUMMARY:Sip and Settle In: Our New Office Happy Hour
DESCRIPTION:Join Leadership Connect for a special Happy Hour as we welcome you to our new office! \nWe’re excited to celebrate this milestone with you on April 24th\, from 5:30-7:30 PM ET. Come mix and mingle with Leadership Connect users and industry peers\, enjoy some drinks on us\, and check out our new space!
URL:https://leadershipconnect.io/event/https-resources-leadershipconnect-io-april-2025-sip-settle-in-our-new-office-happy-hour/
LOCATION:Leadership Connect Offices\, 525 9th Street NW\, Suite 600\, Washington\, DC\, 20004\, United States
CATEGORIES:Happy Hour
ATTACH;FMTTYPE=image/png:https://leadershipconnect.io/wp-content/uploads/april-new-office-Happy-Hour-.png
END:VEVENT
BEGIN:VEVENT
DTSTART;TZID=America/New_York:20250227T173000
DTEND;TZID=America/New_York:20250227T193000
DTSTAMP:20260413T021931
CREATED:20241125T220822Z
LAST-MODIFIED:20250220T184051Z
UID:500000037-1740677400-1740684600@leadershipconnect.io
SUMMARY:Federal Workforce 360 Happy Hour
DESCRIPTION:Join us for an evening of networking and conversation at our Federal Workforce 360 Happy Hour! This exclusive event will bring together professionals from across government and industry to discuss trends and strategies driving workforce transformation in the federal sector.\n💡 What to Expect:\n\n Thought-provoking discussions on workforce collaboration\, upskilling\, and innovation.\n Insights on tools and policies shaping the future of federal workforce adoption.\n A relaxed atmosphere to connect with like-minded leaders and peers.\n\n🍷 When: February 27\, 2025\n📍 Where: Leadership Connects Office\n🎯 Who Should Attend: Government professionals\, contractors\, and industry innovators passionate about workforce evolution in the public sector.\n\nLet’s toast to building the workforce of tomorrow while strengthening the connections of today!
URL:https://leadershipconnect.io/event/federal-workforce-360-happy-hour/
LOCATION:Leadership Connect Offices\, 525 9th Street NW\, Suite 600\, Washington\, DC\, 20004\, United States
CATEGORIES:Happy Hour
ATTACH;FMTTYPE=image/png:https://leadershipconnect.io/wp-content/uploads/feb-workforce-Happy-Hour-.png
END:VEVENT
BEGIN:VEVENT
DTSTART;TZID=America/New_York:20250130T173000
DTEND;TZID=America/New_York:20250130T193000
DTSTAMP:20260413T021931
CREATED:20241125T214307Z
LAST-MODIFIED:20241211T140316Z
UID:500000036-1738258200-1738265400@leadershipconnect.io
SUMMARY:AI and Acquisition Happy Hour
DESCRIPTION:Join us for an engaging evening of networking\, insights\, and refreshments as we explore how artificial intelligence is revolutionizing government acquisition and procurement processes. This casual yet impactful gathering brings together industry leaders\, government decision-makers\, and innovators to discuss the role of AI in streamlining procurement\, improving transparency\, and driving smarter\, faster decisions. \nDetails:\n📅 Date: January 30\, 2025\n⏰ Time: 5:30 PM – 7:30 PM\n📍 Location: Leadership Connect Office\n🍸 Drinks & Appetizers Provided \nDiscussion Highlights: \n\n⁠ How AI is transforming the acquisition lifecycle.\n Best practices for integrating AI tools into procurement processes.\n Key challenges and opportunities in AI-driven acquisition strategies.\n\nWhy Attend: \n\n⁠Network with peers and thought leaders in the GovCon and AI space.\n⁠Share insights and learn actionable strategies for leveraging AI in acquisition.\n⁠Enjoy a relaxed atmosphere while gaining new perspectives.\n\nCome mix and mingle with Leadership Connect users and industry peers. Let us continue to make your life easier by adding a few drinks on us.
URL:https://leadershipconnect.io/event/ai-and-acquisition-happy-hour/
LOCATION:Leadership Connect Offices\, 525 9th Street NW\, Suite 600\, Washington\, DC\, 20004\, United States
CATEGORIES:Happy Hour
ATTACH;FMTTYPE=image/png:https://leadershipconnect.io/wp-content/uploads/jan-AI-Acquisition-Happy-Hour-.png
END:VEVENT
BEGIN:VEVENT
DTSTART;TZID=America/New_York:20241205T173000
DTEND;TZID=America/New_York:20241205T193000
DTSTAMP:20260413T021931
CREATED:20240724T191603Z
LAST-MODIFIED:20241126T204549Z
UID:500000017-1733419800-1733427000@leadershipconnect.io
SUMMARY:Federal Community Happy Hour
DESCRIPTION:Save the date: To express our sincere appreciation for all you do\, Leadership Connect invites you to our upcoming Federal Community Happy Hour on December 5th\, from 5:30-7:30 PM ET.\nThis will be taking place at our office: 325 7th St NW\, Washington DC. Let us continue to make your life easier by adding a few drinks on us.\n\nCome mix and mingle with Leadership Connect users and industry peers.\n\nThe closest metro stops are Archives-Navy Memorial\, Gallery Place-Chinatown\, Judiciary Square\, Federal Triangle\, and Metro Center.\nDon’t miss a night full of networking and fun with fellow Leadership Connect Customers!
URL:https://leadershipconnect.io/event/federal-community-happy-hour/
LOCATION:Leadership Connect Offices\, 525 9th Street NW\, Suite 600\, Washington\, DC\, 20004\, United States
CATEGORIES:Happy Hour
ATTACH;FMTTYPE=image/png:https://leadershipconnect.io/wp-content/uploads/fed-december-Happy-Hour-.png
END:VEVENT
BEGIN:VEVENT
DTSTART;TZID=America/New_York:20241113T173000
DTEND;TZID=America/New_York:20241113T193000
DTSTAMP:20260413T021931
CREATED:20240724T191143Z
LAST-MODIFIED:20241112T235947Z
UID:500000016-1731519000-1731526200@leadershipconnect.io
SUMMARY:Policy Community Happy Hour
DESCRIPTION:Save the date: To express our sincere appreciation for all you do\, Leadership Connect invites you to our upcoming Policy Community Happy Hour on November 13th\, from 5:30-7:30 PM ET.\nThis will be taking place at our office: 325 7th St NW\, Washington DC. Let us continue to make your life easier by adding a few drinks on us.\n\nCome mix and mingle with Leadership Connect users and industry peers.\n\nThe closest metro stops are Archives-Navy Memorial\, Gallery Place-Chinatown\, Judiciary Square\, Federal Triangle\, and Metro Center.\nDon’t miss a night full of networking and fun with fellow Leadership Connect Customers!
URL:https://leadershipconnect.io/event/policy-community-happy-hour-3/
LOCATION:Leadership Connect Offices\, 525 9th Street NW\, Suite 600\, Washington\, DC\, 20004\, United States
CATEGORIES:Happy Hour
ATTACH;FMTTYPE=image/jpeg:https://leadershipconnect.io/wp-content/uploads/11-13-policy-hh.jpg
END:VEVENT
BEGIN:VEVENT
DTSTART;TZID=America/New_York:20241016T173000
DTEND;TZID=America/New_York:20241016T193000
DTSTAMP:20260413T021931
CREATED:20240917T143938Z
LAST-MODIFIED:20240917T143938Z
UID:500000022-1729099800-1729107000@leadershipconnect.io
SUMMARY:GovCon Community Happy Hour with Vultron
DESCRIPTION:To express our sincere appreciation for all you do\, Leadership Connect is partnering with Vultron to celebrate the GovCon community at our upcoming GovCon Community Happy Hour on October 16th\, from 5:30-7:30 PM ET. \nJoin us to mix and mingle with Leadership Connect users\, industry peers\, and the broader GovCon network. Let us continue making your work easier while you enjoy a few drinks on us! \nGet directions: 325 7th St NW\, Washington DC 20004 \nThe closest metro stops are Archives-Navy Memorial\, Gallery Place-Chinatown\, Judiciary Square\, Federal Triangle\, and Metro Center. \nDon’t miss a night full of networking and fun with fellow GovCon community members!
URL:https://leadershipconnect.io/event/october-govcon-community-happy-hour/
LOCATION:Leadership Connect Offices\, 525 9th Street NW\, Suite 600\, Washington\, DC\, 20004\, United States
CATEGORIES:Happy Hour
ATTACH;FMTTYPE=image/png:https://leadershipconnect.io/wp-content/uploads/Vultron-Happy-Hour-Graphic.png
END:VEVENT
BEGIN:VEVENT
DTSTART;TZID=America/New_York:20241003T173000
DTEND;TZID=America/New_York:20241003T193000
DTSTAMP:20260413T021931
CREATED:20240724T190213Z
LAST-MODIFIED:20240731T202711Z
UID:500000015-1727976600-1727983800@leadershipconnect.io
SUMMARY:Cybersecurity Community Happy Hour
DESCRIPTION:Save the date: To express our sincere appreciation for all you do\, Leadership Connect invites you to our upcoming CyberSecurity Happy Hour on October 3rd\, from 5:30-7:30 PM ET.\nThis will be taking place at our office: 325 7th St NW\, Washington DC. Let us continue to make your life easier by adding a few drinks on us.\n\nCome mix and mingle with Leadership Connect users and industry peers.\n\nThe closest metro stops are Archives-Navy Memorial\, Gallery Place-Chinatown\, Judiciary Square\, Federal Triangle\, and Metro Center.\n\nDon’t miss a night full of networking and fun with fellow Leadership Connect Customers!
URL:https://leadershipconnect.io/event/cybersecurity-community-happy-hour/
LOCATION:Leadership Connect Offices\, 525 9th Street NW\, Suite 600\, Washington\, DC\, 20004\, United States
CATEGORIES:Happy Hour
ATTACH;FMTTYPE=image/png:https://leadershipconnect.io/wp-content/uploads/10-3-cybersecurity-hh.png
END:VEVENT
BEGIN:VEVENT
DTSTART;TZID=America/New_York:20240917T173000
DTEND;TZID=America/New_York:20240917T193000
DTSTAMP:20260413T021931
CREATED:20240517T201739Z
LAST-MODIFIED:20250310T160513Z
UID:500000014-1726594200-1726601400@leadershipconnect.io
SUMMARY:Policy Community Happy Hour
DESCRIPTION:Save the date: To express our sincere appreciation for all you do\, Leadership Connect invites you to our upcoming Policy Community Happy Hour on September 17th\, from 5:30-7:30 PM ET. This will be taking place at our new office: 325 7th St NW\, Washington DC. Let us continue to make your life easier by adding a few drinks on us. Come mix and mingle with Leadership Connect users and industry peers. \nThe closest metro stops are Archives-Navy Memorial\, Gallery Place-Chinatown\, Judiciary Square\, Federal Triangle\, and Metro Center. \nDon’t miss a night full of networking and fun with fellow Leadership Connect Customers!
URL:https://leadershipconnect.io/event/policy-community-happy-hour-2/
LOCATION:Leadership Connect Offices\, 525 9th Street NW\, Suite 600\, Washington\, DC\, 20004\, United States
CATEGORIES:Happy Hour
ATTACH;FMTTYPE=image/jpeg:https://leadershipconnect.io/wp-content/uploads/sept17.jpg
END:VEVENT
BEGIN:VEVENT
DTSTART;TZID=America/New_York:20240627T173000
DTEND;TZID=America/New_York:20240627T193000
DTSTAMP:20260413T021931
CREATED:20240517T195856Z
LAST-MODIFIED:20240529T191045Z
UID:500000007-1719509400-1719516600@leadershipconnect.io
SUMMARY:Federal Community Happy Hour
DESCRIPTION:Save the date: To express our sincere appreciation for all you do\, Leadership Connect invites you to our upcoming Federal Community Happy Hour on June 27th\, from 5:30-7:30 PM ET. This will be taking place at our new office: 325 7th St NW\, Washington DC. Let us continue to make your life easier by adding a few drinks on us. Come mix and mingle with Leadership Connect users and industry peers. \nThe closest metro stops are Archives-Navy Memorial\, Gallery Place-Chinatown\, Judiciary Square\, Federal Triangle\, and Metro Center. \nDon’t miss a night full of networking and fun with fellow Leadership Connect Customers!
URL:https://leadershipconnect.io/event/federal-community-happy-hour-2/
LOCATION:Leadership Connect Offices\, 525 9th Street NW\, Suite 600\, Washington\, DC\, 20004\, United States
CATEGORIES:Happy Hour
ATTACH;FMTTYPE=image/jpeg:https://leadershipconnect.io/wp-content/uploads/june27.jpg
END:VEVENT
BEGIN:VEVENT
DTSTART;TZID=America/New_York:20240523T173000
DTEND;TZID=America/New_York:20240523T193000
DTSTAMP:20260413T021931
CREATED:20240517T194931Z
LAST-MODIFIED:20240529T191335Z
UID:500000004-1716485400-1716492600@leadershipconnect.io
SUMMARY:Policy Community Happy Hour
DESCRIPTION:Save the date: To express our sincere appreciation for all you do\, Leadership Connect invites you to our upcoming Policy Community Happy Hour on May 23rd\, from 5:30-7:30 PM ET. This will be taking place at our new office: 325 7th St NW\, Washington DC. Let us continue to make your life easier by adding a few drinks on us. Come mix and mingle with Leadership Connect users and industry peers. \nThe closest metro stops are Archives-Navy Memorial\, Gallery Place-Chinatown\, Judiciary Square\, Federal Triangle\, and Metro Center. \nDon’t miss a night full of networking and fun with fellow Leadership Connect Customers!
URL:https://leadershipconnect.io/event/policy-community-happy-hour/
LOCATION:Leadership Connect Offices\, 525 9th Street NW\, Suite 600\, Washington\, DC\, 20004\, United States
CATEGORIES:Happy Hour
ATTACH;FMTTYPE=image/jpeg:https://leadershipconnect.io/wp-content/uploads/may23hh.jpg
END:VEVENT
END:VCALENDAR